BEGIN:VCALENDAR
VERSION:2.0
PRODID:-//hacksw/handcal//NONSGML v1.0//EN
BEGIN:VEVENT
SUMMARY:1/4 de Finale retour des Gorillas
UID:be98595d-5cc1-4014-bef6-d2a5a399c54a
DTSTART:20260315T140000Z
DTEND:20260315T160000Z
LOCATION:Localisation   
CATEGORIES:Sportif
STATUS:
URL;VALUE=URI:https://www.parisisrugbyclub.com/evenements/2026/03/15/14-de-finale-retour-des-gorillas-2425036
END:VEVENT
END:VCALENDAR
