BEGIN:VCALENDAR
VERSION:2.0
PRODID:-//hacksw/handcal//NONSGML v1.0//EN
BEGIN:VEVENT
SUMMARY:1/4 de Finale Gorillas VS RC Vincennes
UID:9bb8103e-ea7c-47ac-8144-84645e514bea
DTSTART:20260308T140000Z
DTEND:20260308T154500Z
LOCATION:Localisation   
CATEGORIES:Sportif
STATUS:
URL;VALUE=URI:https://www.parisisrugbyclub.com/evenements/2026/03/08/14-de-finale-gorillas-vs-rc-vincennes-2425034
END:VEVENT
END:VCALENDAR
